BEGIN:VCALENDAR
VERSION:2.0
PRODID:-//Insurance Solutions, Inc. - ECPv6.15.17.1//NONSGML v1.0//EN
CALSCALE:GREGORIAN
METHOD:PUBLISH
X-ORIGINAL-URL:https://capitalconceptsvb.com
X-WR-CALDESC:Events for Insurance Solutions, Inc.
REFRESH-INTERVAL;VALUE=DURATION:PT1H
X-Robots-Tag:noindex
X-PUBLISHED-TTL:PT1H
BEGIN:VTIMEZONE
TZID:UTC
BEGIN:STANDARD
TZOFFSETFROM:+0000
TZOFFSETTO:+0000
TZNAME:UTC
DTSTART:20150101T000000
END:STANDARD
END:VTIMEZONE
BEGIN:VEVENT
DTSTART;TZID=UTC:20170420T180000
DTEND;TZID=UTC:20170615T220000
DTSTAMP:20260419T201436
CREATED:20170128T050601Z
LAST-MODIFIED:20170128T050601Z
UID:1541-1492711200-1497564000@capitalconceptsvb.com
SUMMARY:Understanding Different Retirement Strategies (Steinhilbers)
DESCRIPTION:
URL:https://capitalconceptsvb.com/event/understanding-different-retirement-strategies-steinhilbers-19/
LOCATION:Steinhilbers\, 653 Thalia Road\, Virginia Beach\, 23452\, United States
CATEGORIES:Event
END:VEVENT
BEGIN:VEVENT
DTSTART;TZID=UTC:20170418T180000
DTEND;TZID=UTC:20170613T220000
DTSTAMP:20260419T201436
CREATED:20170128T050543Z
LAST-MODIFIED:20170128T050543Z
UID:1539-1492538400-1497391200@capitalconceptsvb.com
SUMMARY:Understanding Different Retirement Strategies (Steinhilbers)
DESCRIPTION:
URL:https://capitalconceptsvb.com/event/understanding-different-retirement-strategies-steinhilbers-18/
LOCATION:Steinhilbers\, 653 Thalia Road\, Virginia Beach\, 23452\, United States
CATEGORIES:Event
END:VEVENT
BEGIN:VEVENT
DTSTART;TZID=UTC:20170417T180000
DTEND;TZID=UTC:20170417T220000
DTSTAMP:20260419T201436
CREATED:20170128T050828Z
LAST-MODIFIED:20170128T050828Z
UID:1549-1492452000-1492466400@capitalconceptsvb.com
SUMMARY:Understanding Different Retirement Strategies (McCormick & Schmicks)
DESCRIPTION:
URL:https://capitalconceptsvb.com/event/understanding-different-retirement-strategies-mccormick-schmicks-10/
LOCATION:McCormick & Schmicks\, 211 Market St.\, Virginia Beach\, VA\, 23462\, United States
CATEGORIES:Event
END:VEVENT
BEGIN:VEVENT
DTSTART;TZID=UTC:20170328T180000
DTEND;TZID=UTC:20170328T200000
DTSTAMP:20260419T201436
CREATED:20170128T051030Z
LAST-MODIFIED:20170128T051030Z
UID:1553-1490724000-1490731200@capitalconceptsvb.com
SUMMARY:Understanding Different Retirement plans (Ruths Chris Steak House)
DESCRIPTION:
URL:https://capitalconceptsvb.com/event/understanding-different-retirement-plans-ruths-chris-steak-house-11/
LOCATION:Ruths Chris Steak House\, 7501 West Sand Lake Rd\, Orlando\, FL\, 32819\, United States
CATEGORIES:Event
END:VEVENT
BEGIN:VEVENT
DTSTART;TZID=UTC:20170327T180000
DTEND;TZID=UTC:20170327T200000
DTSTAMP:20260419T201436
CREATED:20170128T050957Z
LAST-MODIFIED:20170128T050957Z
UID:1551-1490637600-1490644800@capitalconceptsvb.com
SUMMARY:Understanding Different Retirement plans (Ruths Chris Steak House)
DESCRIPTION:
URL:https://capitalconceptsvb.com/event/understanding-different-retirement-plans-ruths-chris-steak-house-10/
LOCATION:Ruths Chris Steak House\, 7501 West Sand Lake Rd\, Orlando\, FL\, 32819\, United States
CATEGORIES:Event
END:VEVENT
BEGIN:VEVENT
DTSTART;TZID=UTC:20170316T180000
DTEND;TZID=UTC:20170511T220000
DTSTAMP:20260419T201436
CREATED:20170128T050520Z
LAST-MODIFIED:20170128T050520Z
UID:1537-1489687200-1494540000@capitalconceptsvb.com
SUMMARY:Understanding Different Retirement Strategies (Steinhilbers)
DESCRIPTION:
URL:https://capitalconceptsvb.com/event/understanding-different-retirement-strategies-steinhilbers-17/
LOCATION:Steinhilbers\, 653 Thalia Road\, Virginia Beach\, 23452\, United States
CATEGORIES:Event
END:VEVENT
BEGIN:VEVENT
DTSTART;TZID=UTC:20170315T180000
DTEND;TZID=UTC:20170315T220000
DTSTAMP:20260419T201436
CREATED:20170128T050808Z
LAST-MODIFIED:20170128T050808Z
UID:1547-1489600800-1489615200@capitalconceptsvb.com
SUMMARY:Understanding Different Retirement Strategies (McCormick & Schmicks)
DESCRIPTION:
URL:https://capitalconceptsvb.com/event/understanding-different-retirement-strategies-mccormick-schmicks-9/
LOCATION:McCormick & Schmicks\, 211 Market St.\, Virginia Beach\, VA\, 23462\, United States
CATEGORIES:Event
END:VEVENT
BEGIN:VEVENT
DTSTART;TZID=UTC:20170313T180000
DTEND;TZID=UTC:20170508T220000
DTSTAMP:20260419T201436
CREATED:20170128T050502Z
LAST-MODIFIED:20170128T050502Z
UID:1535-1489428000-1494280800@capitalconceptsvb.com
SUMMARY:Understanding Different Retirement Strategies (Steinhilbers)
DESCRIPTION:
URL:https://capitalconceptsvb.com/event/understanding-different-retirement-strategies-steinhilbers-16/
LOCATION:Steinhilbers\, 653 Thalia Road\, Virginia Beach\, 23452\, United States
CATEGORIES:Event
END:VEVENT
BEGIN:VEVENT
DTSTART;TZID=UTC:20170227T180000
DTEND;TZID=UTC:20170424T220000
DTSTAMP:20260419T201436
CREATED:20170128T050340Z
LAST-MODIFIED:20170128T050340Z
UID:1531-1488218400-1493071200@capitalconceptsvb.com
SUMMARY:Understanding Different Retirement Strategies (Steinhilbers)
DESCRIPTION:
URL:https://capitalconceptsvb.com/event/understanding-different-retirement-strategies-steinhilbers-15/
LOCATION:Steinhilbers\, 653 Thalia Road\, Virginia Beach\, 23452\, United States
CATEGORIES:Event
END:VEVENT
BEGIN:VEVENT
DTSTART;TZID=UTC:20170223T180000
DTEND;TZID=UTC:20170223T220000
DTSTAMP:20260419T201436
CREATED:20170128T050423Z
LAST-MODIFIED:20170128T050423Z
UID:1533-1487872800-1487887200@capitalconceptsvb.com
SUMMARY:Understanding Different Retirement Strategies (McCormick & Schmicks)
DESCRIPTION:
URL:https://capitalconceptsvb.com/event/understanding-different-retirement-strategies-mccormick-schmicks-8/
LOCATION:McCormick & Schmicks\, 211 Market St.\, Virginia Beach\, VA\, 23462\, United States
CATEGORIES:Event
END:VEVENT
BEGIN:VEVENT
DTSTART;TZID=UTC:20170222T180000
DTEND;TZID=UTC:20170419T220000
DTSTAMP:20260419T201436
CREATED:20170128T050312Z
LAST-MODIFIED:20170128T050312Z
UID:1529-1487786400-1492639200@capitalconceptsvb.com
SUMMARY:Understanding Different Retirement Strategies (Steinhilbers)
DESCRIPTION:
URL:https://capitalconceptsvb.com/event/understanding-different-retirement-strategies-steinhilbers-14/
LOCATION:Steinhilbers\, 653 Thalia Road\, Virginia Beach\, 23452\, United States
CATEGORIES:Event
END:VEVENT
BEGIN:VEVENT
DTSTART;TZID=UTC:20160816T180000
DTEND;TZID=UTC:20160816T200000
DTSTAMP:20260419T201436
CREATED:20160525T004435Z
LAST-MODIFIED:20160525T004435Z
UID:1474-1471370400-1471377600@capitalconceptsvb.com
SUMMARY:Understanding Different Retirement Plans (Riverstone Chophouse)
DESCRIPTION:
URL:https://capitalconceptsvb.com/event/understanding-different-retirement-plans-riverstone-chophouse-6/
LOCATION:River Stone Chophouse\, 8032 Harbour View Blvd\, Suffolk\, VA\, 23435\, United States
CATEGORIES:Event
END:VEVENT
BEGIN:VEVENT
DTSTART;TZID=UTC:20160815T180000
DTEND;TZID=UTC:20160815T200000
DTSTAMP:20260419T201436
CREATED:20160525T004424Z
LAST-MODIFIED:20160525T004424Z
UID:1473-1471284000-1471291200@capitalconceptsvb.com
SUMMARY:Understanding Different Retirement Plans (Riverstone Chophouse)
DESCRIPTION:
URL:https://capitalconceptsvb.com/event/understanding-different-retirement-plans-riverstone-chophouse-5/
LOCATION:River Stone Chophouse\, 8032 Harbour View Blvd\, Suffolk\, VA\, 23435\, United States
CATEGORIES:Event
END:VEVENT
BEGIN:VEVENT
DTSTART;TZID=UTC:20160718T180000
DTEND;TZID=UTC:20160718T220000
DTSTAMP:20260419T201436
CREATED:20160525T004258Z
LAST-MODIFIED:20160525T004258Z
UID:1469-1468864800-1468879200@capitalconceptsvb.com
SUMMARY:Understanding Different Retirement Strategies (Steinhilbers)
DESCRIPTION:
URL:https://capitalconceptsvb.com/event/understanding-different-retirement-strategies-steinhilbers-13/
LOCATION:Steinhilbers\, 653 Thalia Road\, Virginia Beach\, 23452\, United States
CATEGORIES:Event
END:VEVENT
BEGIN:VEVENT
DTSTART;TZID=UTC:20160712T180000
DTEND;TZID=UTC:20160712T220000
DTSTAMP:20260419T201436
CREATED:20160525T004234Z
LAST-MODIFIED:20160525T004234Z
UID:1468-1468346400-1468360800@capitalconceptsvb.com
SUMMARY:Understanding Different Retirement Strategies (Steinhilbers)
DESCRIPTION:
URL:https://capitalconceptsvb.com/event/understanding-different-retirement-strategies-steinhilbers-12/
LOCATION:Steinhilbers\, 653 Thalia Road\, Virginia Beach\, 23452\, United States
CATEGORIES:Event
END:VEVENT
BEGIN:VEVENT
DTSTART;TZID=UTC:20160711T180000
DTEND;TZID=UTC:20160711T220000
DTSTAMP:20260419T201436
CREATED:20160525T004214Z
LAST-MODIFIED:20160525T004214Z
UID:1467-1468260000-1468274400@capitalconceptsvb.com
SUMMARY:Understanding Different Retirement Strategies (McCormick & Schmicks)
DESCRIPTION:
URL:https://capitalconceptsvb.com/event/understanding-different-retirement-strategies-mccormick-schmicks-7/
LOCATION:McCormick & Schmicks\, 211 Market St.\, Virginia Beach\, VA\, 23462\, United States
CATEGORIES:Event
END:VEVENT
BEGIN:VEVENT
DTSTART;TZID=UTC:20160621T180000
DTEND;TZID=UTC:20160621T220000
DTSTAMP:20260419T201436
CREATED:20160525T004150Z
LAST-MODIFIED:20160525T004150Z
UID:1466-1466532000-1466546400@capitalconceptsvb.com
SUMMARY:Understanding Different Retirement Strategies (McCormick & Schmicks)
DESCRIPTION:
URL:https://capitalconceptsvb.com/event/understanding-different-retirement-strategies-mccormick-schmicks-6/
LOCATION:McCormick & Schmicks\, 211 Market St.\, Virginia Beach\, VA\, 23462\, United States
CATEGORIES:Event
END:VEVENT
BEGIN:VEVENT
DTSTART;TZID=UTC:20160620T180000
DTEND;TZID=UTC:20160620T220000
DTSTAMP:20260419T201436
CREATED:20160525T004103Z
LAST-MODIFIED:20160525T004103Z
UID:1465-1466445600-1466460000@capitalconceptsvb.com
SUMMARY:Understanding Different Retirement Strategies (Steinhilbers)
DESCRIPTION:
URL:https://capitalconceptsvb.com/event/understanding-different-retirement-strategies-steinhilbers-11/
LOCATION:Steinhilbers\, 653 Thalia Road\, Virginia Beach\, 23452\, United States
CATEGORIES:Event
END:VEVENT
BEGIN:VEVENT
DTSTART;TZID=UTC:20160615T180000
DTEND;TZID=UTC:20160615T220000
DTSTAMP:20260419T201436
CREATED:20160525T004052Z
LAST-MODIFIED:20160525T004052Z
UID:1464-1466013600-1466028000@capitalconceptsvb.com
SUMMARY:Understanding Different Retirement Strategies (Steinhilbers)
DESCRIPTION:
URL:https://capitalconceptsvb.com/event/understanding-different-retirement-strategies-steinhilbers-10/
LOCATION:Steinhilbers\, 653 Thalia Road\, Virginia Beach\, 23452\, United States
CATEGORIES:Event
END:VEVENT
BEGIN:VEVENT
DTSTART;TZID=UTC:20160602T180000
DTEND;TZID=UTC:20160602T200000
DTSTAMP:20260419T201436
CREATED:20160525T004024Z
LAST-MODIFIED:20160525T004024Z
UID:1463-1464890400-1464897600@capitalconceptsvb.com
SUMMARY:Understanding Different Retirement plans (Ruths Chris Steak House)
DESCRIPTION:
URL:https://capitalconceptsvb.com/event/understanding-different-retirement-plans-ruths-chris-steak-house-9/
LOCATION:Ruths Chris Steak House\, 7501 West Sand Lake Rd\, Orlando\, FL\, 32819\, United States
CATEGORIES:Event
END:VEVENT
BEGIN:VEVENT
DTSTART;TZID=UTC:20160601T180000
DTEND;TZID=UTC:20160601T200000
DTSTAMP:20260419T201436
CREATED:20160525T004012Z
LAST-MODIFIED:20160525T004012Z
UID:1462-1464804000-1464811200@capitalconceptsvb.com
SUMMARY:Understanding Different Retirement plans (Ruths Chris Steak House)
DESCRIPTION:
URL:https://capitalconceptsvb.com/event/understanding-different-retirement-plans-ruths-chris-steak-house-8/
LOCATION:Ruths Chris Steak House\, 7501 West Sand Lake Rd\, Orlando\, FL\, 32819\, United States
CATEGORIES:Event
END:VEVENT
BEGIN:VEVENT
DTSTART;TZID=UTC:20160531T180000
DTEND;TZID=UTC:20160531T200000
DTSTAMP:20260419T201436
CREATED:20160525T003958Z
LAST-MODIFIED:20160525T003958Z
UID:1461-1464717600-1464724800@capitalconceptsvb.com
SUMMARY:Understanding Different Retirement plans (Ruths Chris Steak House)
DESCRIPTION:
URL:https://capitalconceptsvb.com/event/understanding-different-retirement-plans-ruths-chris-steak-house-7/
LOCATION:Ruths Chris Steak House\, 7501 West Sand Lake Rd\, Orlando\, FL\, 32819\, United States
CATEGORIES:Event
END:VEVENT
BEGIN:VEVENT
DTSTART;TZID=UTC:20160225T180000
DTEND;TZID=UTC:20160225T220000
DTSTAMP:20260419T201436
CREATED:20160112T220742Z
LAST-MODIFIED:20160112T220742Z
UID:1416-1456423200-1456437600@capitalconceptsvb.com
SUMMARY:Understanding Different Retirement Strategies (Steinhilbers)
DESCRIPTION:
URL:https://capitalconceptsvb.com/event/understanding-different-retirement-strategies-steinhilbers-8/
LOCATION:Steinhilbers\, 653 Thalia Road\, Virginia Beach\, 23452\, United States
CATEGORIES:Event
END:VEVENT
BEGIN:VEVENT
DTSTART;TZID=UTC:20160223T180000
DTEND;TZID=UTC:20160223T220000
DTSTAMP:20260419T201436
CREATED:20160112T220756Z
LAST-MODIFIED:20160112T220756Z
UID:1417-1456250400-1456264800@capitalconceptsvb.com
SUMMARY:Understanding Different Retirement Strategies (Steinhilbers)
DESCRIPTION:
URL:https://capitalconceptsvb.com/event/understanding-different-retirement-strategies-steinhilbers-9/
LOCATION:Steinhilbers\, 653 Thalia Road\, Virginia Beach\, 23452\, United States
CATEGORIES:Event
END:VEVENT
BEGIN:VEVENT
DTSTART;TZID=UTC:20160222T180000
DTEND;TZID=UTC:20160222T220000
DTSTAMP:20260419T201436
CREATED:20160112T220717Z
LAST-MODIFIED:20160112T220717Z
UID:1415-1456164000-1456178400@capitalconceptsvb.com
SUMMARY:Understanding Different Retirement Strategies (McCormick & Schmicks)
DESCRIPTION:
URL:https://capitalconceptsvb.com/event/understanding-different-retirement-strategies-mccormick-schmicks-5/
LOCATION:McCormick & Schmicks\, 211 Market St.\, Virginia Beach\, VA\, 23462\, United States
CATEGORIES:Event
END:VEVENT
BEGIN:VEVENT
DTSTART;TZID=UTC:20160209T180000
DTEND;TZID=UTC:20160209T200000
DTSTAMP:20260419T201436
CREATED:20160112T220655Z
LAST-MODIFIED:20160112T220655Z
UID:1414-1455040800-1455048000@capitalconceptsvb.com
SUMMARY:Understanding Different Retirement Plans (Riverstone Chophouse)
DESCRIPTION:
URL:https://capitalconceptsvb.com/event/understanding-different-retirement-plans-riverstone-chophouse-4/
LOCATION:River Stone Chophouse\, 8032 Harbour View Blvd\, Suffolk\, VA\, 23435\, United States
CATEGORIES:Event
END:VEVENT
BEGIN:VEVENT
DTSTART;TZID=UTC:20160208T180000
DTEND;TZID=UTC:20160208T200000
DTSTAMP:20260419T201436
CREATED:20160112T220644Z
LAST-MODIFIED:20160112T220644Z
UID:1413-1454954400-1454961600@capitalconceptsvb.com
SUMMARY:Understanding Different Retirement Plans (Riverstone Chophouse)
DESCRIPTION:
URL:https://capitalconceptsvb.com/event/understanding-different-retirement-plans-riverstone-chophouse-3/
LOCATION:River Stone Chophouse\, 8032 Harbour View Blvd\, Suffolk\, VA\, 23435\, United States
CATEGORIES:Event
END:VEVENT
BEGIN:VEVENT
DTSTART;TZID=UTC:20160128T180000
DTEND;TZID=UTC:20160128T220000
DTSTAMP:20260419T201436
CREATED:20160112T220535Z
LAST-MODIFIED:20160112T220535Z
UID:1411-1454004000-1454018400@capitalconceptsvb.com
SUMMARY:Understanding Different Retirement Strategies (Steinhilbers)
DESCRIPTION:
URL:https://capitalconceptsvb.com/event/understanding-different-retirement-strategies-steinhilbers-7/
LOCATION:Steinhilbers\, 653 Thalia Road\, Virginia Beach\, 23452\, United States
CATEGORIES:Event
END:VEVENT
BEGIN:VEVENT
DTSTART;TZID=UTC:20160127T180000
DTEND;TZID=UTC:20160127T220000
DTSTAMP:20260419T201436
CREATED:20160112T220604Z
LAST-MODIFIED:20160112T220604Z
UID:1412-1453917600-1453932000@capitalconceptsvb.com
SUMMARY:Understanding Different Retirement Strategies (McCormick & Schmicks)
DESCRIPTION:
URL:https://capitalconceptsvb.com/event/understanding-different-retirement-strategies-mccormick-schmicks-4/
LOCATION:McCormick & Schmicks\, 211 Market St.\, Virginia Beach\, VA\, 23462\, United States
CATEGORIES:Event
END:VEVENT
BEGIN:VEVENT
DTSTART;TZID=UTC:20160125T180000
DTEND;TZID=UTC:20160125T220000
DTSTAMP:20260419T201436
CREATED:20160112T220522Z
LAST-MODIFIED:20160112T220522Z
UID:1410-1453744800-1453759200@capitalconceptsvb.com
SUMMARY:Understanding Different Retirement Strategies (Steinhilbers)
DESCRIPTION:
URL:https://capitalconceptsvb.com/event/understanding-different-retirement-strategies-steinhilbers-6/
LOCATION:Steinhilbers\, 653 Thalia Road\, Virginia Beach\, 23452\, United States
CATEGORIES:Event
END:VEVENT
END:VCALENDAR