BEGIN:VCALENDAR
VERSION:2.0
PRODID:-//Insurance Solutions, Inc. - ECPv6.15.17.1//NONSGML v1.0//EN
CALSCALE:GREGORIAN
METHOD:PUBLISH
X-WR-CALNAME:Insurance Solutions, Inc.
X-ORIGINAL-URL:https://capitalconceptsvb.com
X-WR-CALDESC:Events for Insurance Solutions, Inc.
REFRESH-INTERVAL;VALUE=DURATION:PT1H
X-Robots-Tag:noindex
X-PUBLISHED-TTL:PT1H
BEGIN:VTIMEZONE
TZID:UTC
BEGIN:STANDARD
TZOFFSETFROM:+0000
TZOFFSETTO:+0000
TZNAME:UTC
DTSTART:20160101T000000
END:STANDARD
END:VTIMEZONE
BEGIN:VEVENT
DTSTART;TZID=UTC:20190227T180000
DTEND;TZID=UTC:20190227T180000
DTSTAMP:20260419T081917
CREATED:20190118T031048Z
LAST-MODIFIED:20190118T031048Z
UID:1904-1551290400-1551290400@capitalconceptsvb.com
SUMMARY:Understanding Different Retirement Strategies (Steinhilbers)
DESCRIPTION:
URL:https://capitalconceptsvb.com/event/understanding-different-retirement-strategies-steinhilbers-25-2-2-2-2-2-2/
LOCATION:Steinhilbers\, 653 Thalia Road\, Virginia Beach\, 23452\, United States
CATEGORIES:Event
END:VEVENT
BEGIN:VEVENT
DTSTART;TZID=UTC:20190225T180000
DTEND;TZID=UTC:20190225T180000
DTSTAMP:20260419T081917
CREATED:20190118T031038Z
LAST-MODIFIED:20190118T031038Z
UID:1902-1551117600-1551117600@capitalconceptsvb.com
SUMMARY:Understanding Different Retirement Strategies (Steinhilbers)
DESCRIPTION:
URL:https://capitalconceptsvb.com/event/understanding-different-retirement-strategies-steinhilbers-25-2-2-2-2-2/
LOCATION:Steinhilbers\, 653 Thalia Road\, Virginia Beach\, 23452\, United States
CATEGORIES:Event
END:VEVENT
BEGIN:VEVENT
DTSTART;TZID=UTC:20190220T180000
DTEND;TZID=UTC:20190220T180000
DTSTAMP:20260419T081917
CREATED:20190118T031028Z
LAST-MODIFIED:20190118T031028Z
UID:1900-1550685600-1550685600@capitalconceptsvb.com
SUMMARY:Understanding Different Retirement Strategies (Steinhilbers)
DESCRIPTION:
URL:https://capitalconceptsvb.com/event/understanding-different-retirement-strategies-steinhilbers-25-2-2-2-2/
LOCATION:Steinhilbers\, 653 Thalia Road\, Virginia Beach\, 23452\, United States
CATEGORIES:Event
END:VEVENT
BEGIN:VEVENT
DTSTART;TZID=UTC:20190219T180000
DTEND;TZID=UTC:20190219T180000
DTSTAMP:20260419T081917
CREATED:20190118T031013Z
LAST-MODIFIED:20190118T031013Z
UID:1898-1550599200-1550599200@capitalconceptsvb.com
SUMMARY:Understanding Different Retirement Strategies (Steinhilbers)
DESCRIPTION:
URL:https://capitalconceptsvb.com/event/understanding-different-retirement-strategies-steinhilbers-25-2-2-2/
LOCATION:Steinhilbers\, 653 Thalia Road\, Virginia Beach\, 23452\, United States
CATEGORIES:Event
END:VEVENT
BEGIN:VEVENT
DTSTART;TZID=UTC:20190129T180000
DTEND;TZID=UTC:20190129T180000
DTSTAMP:20260419T081917
CREATED:20190118T030944Z
LAST-MODIFIED:20190118T030944Z
UID:1896-1548784800-1548784800@capitalconceptsvb.com
SUMMARY:Understanding Different Retirement Plans (Fin Seafood)
DESCRIPTION:
URL:https://capitalconceptsvb.com/event/understanding-different-retirement-plans-fin-seafood-2-2/
LOCATION:Fin Seafood\, 3150 William Styron Square N.\, Newport News\, VA\, 23606\, United States
END:VEVENT
BEGIN:VEVENT
DTSTART;TZID=UTC:20190128T180000
DTEND;TZID=UTC:20190128T180000
DTSTAMP:20260419T081917
CREATED:20190118T030921Z
LAST-MODIFIED:20190118T030921Z
UID:1894-1548698400-1548698400@capitalconceptsvb.com
SUMMARY:Understanding Different Retirement Plans (Schlesinger's Steakhouse)
DESCRIPTION:
URL:https://capitalconceptsvb.com/event/understanding-different-retirement-plans-schlesingers-steakhouse-4-2-2/
LOCATION:Schlesinger’s Steakhouse\, 1106 William Styron Square S.\, Newport News\, VA\, 23606\, United States
END:VEVENT
BEGIN:VEVENT
DTSTART;TZID=UTC:20190122T180000
DTEND;TZID=UTC:20190122T180000
DTSTAMP:20260419T081917
CREATED:20190118T030911Z
LAST-MODIFIED:20190118T030911Z
UID:1892-1548180000-1548180000@capitalconceptsvb.com
SUMMARY:Understanding Different Retirement Plans (Schlesinger's Steakhouse)
DESCRIPTION:
URL:https://capitalconceptsvb.com/event/understanding-different-retirement-plans-schlesingers-steakhouse-4-2/
LOCATION:Schlesinger’s Steakhouse\, 1106 William Styron Square S.\, Newport News\, VA\, 23606\, United States
END:VEVENT
BEGIN:VEVENT
DTSTART;TZID=UTC:20180329T180000
DTEND;TZID=UTC:20180329T180000
DTSTAMP:20260419T081917
CREATED:20180216T020908Z
LAST-MODIFIED:20180216T020908Z
UID:1763-1522346400-1522346400@capitalconceptsvb.com
SUMMARY:Understanding Different Retirement Strategies (Steinhilbers)
DESCRIPTION:
URL:https://capitalconceptsvb.com/event/understanding-different-retirement-strategies-steinhilbers-25-2-2/
LOCATION:Steinhilbers\, 653 Thalia Road\, Virginia Beach\, 23452\, United States
CATEGORIES:Event
END:VEVENT
BEGIN:VEVENT
DTSTART;TZID=UTC:20180327T180000
DTEND;TZID=UTC:20180327T180000
DTSTAMP:20260419T081917
CREATED:20180216T020856Z
LAST-MODIFIED:20180216T020856Z
UID:1761-1522173600-1522173600@capitalconceptsvb.com
SUMMARY:Understanding Different Retirement Strategies (Steinhilbers)
DESCRIPTION:
URL:https://capitalconceptsvb.com/event/understanding-different-retirement-strategies-steinhilbers-25-2/
LOCATION:Steinhilbers\, 653 Thalia Road\, Virginia Beach\, 23452\, United States
CATEGORIES:Event
END:VEVENT
BEGIN:VEVENT
DTSTART;TZID=UTC:20180322T180000
DTEND;TZID=UTC:20180322T180000
DTSTAMP:20260419T081917
CREATED:20180216T020836Z
LAST-MODIFIED:20180216T020836Z
UID:1759-1521741600-1521741600@capitalconceptsvb.com
SUMMARY:Understanding Different Retirement Plans (The Butcher's Son)
DESCRIPTION:
URL:https://capitalconceptsvb.com/event/understanding-different-retirement-plans-the-butchers-son-9-2-2/
LOCATION:The Butcher’s Son\, 500 S. Battlefield Blvd.\, Chesapeake \, VA\, 23322\, United States
END:VEVENT
BEGIN:VEVENT
DTSTART;TZID=UTC:20180320T180000
DTEND;TZID=UTC:20180320T180000
DTSTAMP:20260419T081917
CREATED:20180216T020821Z
LAST-MODIFIED:20180216T020821Z
UID:1757-1521568800-1521568800@capitalconceptsvb.com
SUMMARY:Understanding Different Retirement Plans (The Butcher's Son)
DESCRIPTION:
URL:https://capitalconceptsvb.com/event/understanding-different-retirement-plans-the-butchers-son-9-2/
LOCATION:The Butcher’s Son\, 500 S. Battlefield Blvd.\, Chesapeake \, VA\, 23322\, United States
END:VEVENT
BEGIN:VEVENT
DTSTART;TZID=UTC:20171212T180000
DTEND;TZID=UTC:20171212T180000
DTSTAMP:20260419T081917
CREATED:20171114T033018Z
LAST-MODIFIED:20171114T033018Z
UID:1707-1513101600-1513101600@capitalconceptsvb.com
SUMMARY:Understanding Different Retirement Strategies (Steinhilbers)
DESCRIPTION:
URL:https://capitalconceptsvb.com/event/understanding-different-retirement-strategies-steinhilbers-25/
LOCATION:Steinhilbers\, 653 Thalia Road\, Virginia Beach\, 23452\, United States
CATEGORIES:Event
END:VEVENT
BEGIN:VEVENT
DTSTART;TZID=UTC:20171206T113000
DTEND;TZID=UTC:20171206T113000
DTSTAMP:20260419T081917
CREATED:20171114T032929Z
LAST-MODIFIED:20171114T032959Z
UID:1705-1512559800-1512559800@capitalconceptsvb.com
SUMMARY:Understanding Different Retirement Strategies (Steinhilbers)
DESCRIPTION:
URL:https://capitalconceptsvb.com/event/understanding-different-retirement-strategies-steinhilbers-24/
LOCATION:Steinhilbers\, 653 Thalia Road\, Virginia Beach\, 23452\, United States
CATEGORIES:Event
END:VEVENT
BEGIN:VEVENT
DTSTART;TZID=UTC:20171205T180000
DTEND;TZID=UTC:20171205T220000
DTSTAMP:20260419T081917
CREATED:20171114T033106Z
LAST-MODIFIED:20171114T033106Z
UID:1709-1512496800-1512511200@capitalconceptsvb.com
SUMMARY:Understanding Different Retirement Strategies (McCormick & Schmicks)
DESCRIPTION:
URL:https://capitalconceptsvb.com/event/understanding-different-retirement-strategies-mccormick-schmicks-12/
LOCATION:McCormick & Schmicks\, 211 Market St.\, Virginia Beach\, VA\, 23462\, United States
CATEGORIES:Event
END:VEVENT
BEGIN:VEVENT
DTSTART;TZID=UTC:20171130T180000
DTEND;TZID=UTC:20171130T180000
DTSTAMP:20260419T081917
CREATED:20171114T032909Z
LAST-MODIFIED:20171114T032909Z
UID:1703-1512064800-1512064800@capitalconceptsvb.com
SUMMARY:Understanding Different Retirement Plans (The Butcher's Son)
DESCRIPTION:
URL:https://capitalconceptsvb.com/event/understanding-different-retirement-plans-the-butchers-son-10/
LOCATION:The Butcher’s Son\, 500 S. Battlefield Blvd.\, Chesapeake \, VA\, 23322\, United States
END:VEVENT
BEGIN:VEVENT
DTSTART;TZID=UTC:20171127T180000
DTEND;TZID=UTC:20171127T180000
DTSTAMP:20260419T081917
CREATED:20171114T032849Z
LAST-MODIFIED:20171114T032849Z
UID:1701-1511805600-1511805600@capitalconceptsvb.com
SUMMARY:Understanding Different Retirement Plans (The Butcher's Son)
DESCRIPTION:
URL:https://capitalconceptsvb.com/event/understanding-different-retirement-plans-the-butchers-son-9/
LOCATION:The Butcher’s Son\, 500 S. Battlefield Blvd.\, Chesapeake \, VA\, 23322\, United States
END:VEVENT
BEGIN:VEVENT
DTSTART;TZID=UTC:20171024T180000
DTEND;TZID=UTC:20171024T200000
DTSTAMP:20260419T081917
CREATED:20170824T035852Z
LAST-MODIFIED:20170824T035852Z
UID:1678-1508868000-1508875200@capitalconceptsvb.com
SUMMARY:Understanding Different Retirement plans (Ruths Chris Steak House)
DESCRIPTION:
URL:https://capitalconceptsvb.com/event/understanding-different-retirement-plans-ruths-chris-steak-house-13/
LOCATION:Ruths Chris Steak House\, 7501 West Sand Lake Rd\, Orlando\, FL\, 32819\, United States
CATEGORIES:Event
END:VEVENT
BEGIN:VEVENT
DTSTART;TZID=UTC:20171023T180000
DTEND;TZID=UTC:20171023T200000
DTSTAMP:20260419T081917
CREATED:20170824T035823Z
LAST-MODIFIED:20170824T035823Z
UID:1676-1508781600-1508788800@capitalconceptsvb.com
SUMMARY:Understanding Different Retirement plans (Ruths Chris Steak House)
DESCRIPTION:
URL:https://capitalconceptsvb.com/event/understanding-different-retirement-plans-ruths-chris-steak-house-12/
LOCATION:Ruths Chris Steak House\, 7501 West Sand Lake Rd\, Orlando\, FL\, 32819\, United States
CATEGORIES:Event
END:VEVENT
BEGIN:VEVENT
DTSTART;TZID=UTC:20171011T180000
DTEND;TZID=UTC:20171011T220000
DTSTAMP:20260419T081917
CREATED:20170824T035448Z
LAST-MODIFIED:20171114T033054Z
UID:1670-1507744800-1507759200@capitalconceptsvb.com
SUMMARY:Understanding Different Retirement Strategies (Steinhilbers)
DESCRIPTION:
URL:https://capitalconceptsvb.com/event/understanding-different-retirement-strategies-steinhilbers-23/
LOCATION:Steinhilbers\, 653 Thalia Road\, Virginia Beach\, 23452\, United States
CATEGORIES:Event
END:VEVENT
BEGIN:VEVENT
DTSTART;TZID=UTC:20171004T180000
DTEND;TZID=UTC:20171004T180000
DTSTAMP:20260419T081917
CREATED:20170824T035545Z
LAST-MODIFIED:20170824T035545Z
UID:1674-1507140000-1507140000@capitalconceptsvb.com
SUMMARY:Understanding Different Retirement Plans (The Butcher's Son)
DESCRIPTION:
URL:https://capitalconceptsvb.com/event/understanding-different-retirement-plans-the-butchers-son-8/
LOCATION:The Butcher’s Son\, 500 S. Battlefield Blvd.\, Chesapeake \, VA\, 23322\, United States
END:VEVENT
BEGIN:VEVENT
DTSTART;TZID=UTC:20170920T180000
DTEND;TZID=UTC:20170920T220000
DTSTAMP:20260419T081917
CREATED:20170824T035433Z
LAST-MODIFIED:20171114T033255Z
UID:1668-1505930400-1505944800@capitalconceptsvb.com
SUMMARY:Understanding Different Retirement Strategies (Steinhilbers)
DESCRIPTION:
URL:https://capitalconceptsvb.com/event/understanding-different-retirement-strategies-steinhilbers-22/
LOCATION:Steinhilbers\, 653 Thalia Road\, Virginia Beach\, 23452\, United States
CATEGORIES:Event
END:VEVENT
BEGIN:VEVENT
DTSTART;TZID=UTC:20170920T180000
DTEND;TZID=UTC:20170920T220000
DTSTAMP:20260419T081917
CREATED:20170824T035419Z
LAST-MODIFIED:20171114T033250Z
UID:1666-1505930400-1505944800@capitalconceptsvb.com
SUMMARY:Understanding Different Retirement Strategies (Steinhilbers)
DESCRIPTION:
URL:https://capitalconceptsvb.com/event/understanding-different-retirement-strategies-steinhilbers-21/
LOCATION:Steinhilbers\, 653 Thalia Road\, Virginia Beach\, 23452\, United States
CATEGORIES:Event
END:VEVENT
BEGIN:VEVENT
DTSTART;TZID=UTC:20170918T180000
DTEND;TZID=UTC:20170918T220000
DTSTAMP:20260419T081917
CREATED:20170824T035405Z
LAST-MODIFIED:20171114T033245Z
UID:1664-1505757600-1505772000@capitalconceptsvb.com
SUMMARY:Understanding Different Retirement Strategies (Steinhilbers)
DESCRIPTION:
URL:https://capitalconceptsvb.com/event/understanding-different-retirement-strategies-steinhilbers-20/
LOCATION:Steinhilbers\, 653 Thalia Road\, Virginia Beach\, 23452\, United States
CATEGORIES:Event
END:VEVENT
BEGIN:VEVENT
DTSTART;TZID=UTC:20170911T180000
DTEND;TZID=UTC:20170911T220000
DTSTAMP:20260419T081917
CREATED:20170824T035513Z
LAST-MODIFIED:20170824T035513Z
UID:1672-1505152800-1505167200@capitalconceptsvb.com
SUMMARY:Understanding Different Retirement Strategies (McCormick & Schmicks)
DESCRIPTION:
URL:https://capitalconceptsvb.com/event/understanding-different-retirement-strategies-mccormick-schmicks-11/
LOCATION:McCormick & Schmicks\, 211 Market St.\, Virginia Beach\, VA\, 23462\, United States
CATEGORIES:Event
END:VEVENT
BEGIN:VEVENT
DTSTART;TZID=UTC:20170907T180000
DTEND;TZID=UTC:20170907T180000
DTSTAMP:20260419T081917
CREATED:20170824T035339Z
LAST-MODIFIED:20170824T035339Z
UID:1662-1504807200-1504807200@capitalconceptsvb.com
SUMMARY:Understanding Different Retirement Plans (Riverstone Chophouse)
DESCRIPTION:
URL:https://capitalconceptsvb.com/event/understanding-different-retirement-plans-riverstone-chophouse-10/
LOCATION:River Stone Chophouse\, 8032 Harbour View Blvd\, Suffolk\, VA\, 23435\, United States
CATEGORIES:Event
END:VEVENT
BEGIN:VEVENT
DTSTART;TZID=UTC:20170906T180000
DTEND;TZID=UTC:20170906T180000
DTSTAMP:20260419T081917
CREATED:20170824T035326Z
LAST-MODIFIED:20170824T035326Z
UID:1627-1504720800-1504720800@capitalconceptsvb.com
SUMMARY:Understanding Different Retirement Plans (Riverstone Chophouse)
DESCRIPTION:
URL:https://capitalconceptsvb.com/event/understanding-different-retirement-plans-riverstone-chophouse-9/
LOCATION:River Stone Chophouse\, 8032 Harbour View Blvd\, Suffolk\, VA\, 23435\, United States
CATEGORIES:Event
END:VEVENT
BEGIN:VEVENT
DTSTART;TZID=UTC:20170426T180000
DTEND;TZID=UTC:20170426T200000
DTSTAMP:20260419T081917
CREATED:20170128T051131Z
LAST-MODIFIED:20170128T051131Z
UID:1557-1493229600-1493236800@capitalconceptsvb.com
SUMMARY:Understanding Different Retirement Plans (Riverstone Chophouse)
DESCRIPTION:
URL:https://capitalconceptsvb.com/event/understanding-different-retirement-plans-riverstone-chophouse-8/
LOCATION:River Stone Chophouse\, 8032 Harbour View Blvd\, Suffolk\, VA\, 23435\, United States
CATEGORIES:Event
END:VEVENT
BEGIN:VEVENT
DTSTART;TZID=UTC:20170425T180000
DTEND;TZID=UTC:20170425T200000
DTSTAMP:20260419T081917
CREATED:20170128T051107Z
LAST-MODIFIED:20170128T051107Z
UID:1555-1493143200-1493150400@capitalconceptsvb.com
SUMMARY:Understanding Different Retirement Plans (Riverstone Chophouse)
DESCRIPTION:
URL:https://capitalconceptsvb.com/event/understanding-different-retirement-plans-riverstone-chophouse-7/
LOCATION:River Stone Chophouse\, 8032 Harbour View Blvd\, Suffolk\, VA\, 23435\, United States
CATEGORIES:Event
END:VEVENT
BEGIN:VEVENT
DTSTART;TZID=UTC:20170420T180000
DTEND;TZID=UTC:20170615T220000
DTSTAMP:20260419T081917
CREATED:20170128T050601Z
LAST-MODIFIED:20170128T050601Z
UID:1541-1492711200-1497564000@capitalconceptsvb.com
SUMMARY:Understanding Different Retirement Strategies (Steinhilbers)
DESCRIPTION:
URL:https://capitalconceptsvb.com/event/understanding-different-retirement-strategies-steinhilbers-19/
LOCATION:Steinhilbers\, 653 Thalia Road\, Virginia Beach\, 23452\, United States
CATEGORIES:Event
END:VEVENT
BEGIN:VEVENT
DTSTART;TZID=UTC:20170418T180000
DTEND;TZID=UTC:20170613T220000
DTSTAMP:20260419T081917
CREATED:20170128T050543Z
LAST-MODIFIED:20170128T050543Z
UID:1539-1492538400-1497391200@capitalconceptsvb.com
SUMMARY:Understanding Different Retirement Strategies (Steinhilbers)
DESCRIPTION:
URL:https://capitalconceptsvb.com/event/understanding-different-retirement-strategies-steinhilbers-18/
LOCATION:Steinhilbers\, 653 Thalia Road\, Virginia Beach\, 23452\, United States
CATEGORIES:Event
END:VEVENT
END:VCALENDAR